BEGIN:VCALENDAR
VERSION:2.0
PRODID:-//BREEZE 97.7FM - ECPv6.15.20//NONSGML v1.0//EN
CALSCALE:GREGORIAN
METHOD:PUBLISH
X-ORIGINAL-URL:https://breezefm.es
X-WR-CALDESC:Events for BREEZE 97.7FM
REFRESH-INTERVAL;VALUE=DURATION:PT1H
X-Robots-Tag:noindex
X-PUBLISHED-TTL:PT1H
BEGIN:VTIMEZONE
TZID:Europe/Madrid
BEGIN:DAYLIGHT
TZOFFSETFROM:+0100
TZOFFSETTO:+0200
TZNAME:CEST
DTSTART:20240331T010000
END:DAYLIGHT
BEGIN:STANDARD
TZOFFSETFROM:+0200
TZOFFSETTO:+0100
TZNAME:CET
DTSTART:20241027T010000
END:STANDARD
BEGIN:DAYLIGHT
TZOFFSETFROM:+0100
TZOFFSETTO:+0200
TZNAME:CEST
DTSTART:20250330T010000
END:DAYLIGHT
BEGIN:STANDARD
TZOFFSETFROM:+0200
TZOFFSETTO:+0100
TZNAME:CET
DTSTART:20251026T010000
END:STANDARD
BEGIN:DAYLIGHT
TZOFFSETFROM:+0100
TZOFFSETTO:+0200
TZNAME:CEST
DTSTART:20260329T010000
END:DAYLIGHT
BEGIN:STANDARD
TZOFFSETFROM:+0200
TZOFFSETTO:+0100
TZNAME:CET
DTSTART:20261025T010000
END:STANDARD
BEGIN:DAYLIGHT
TZOFFSETFROM:+0100
TZOFFSETTO:+0200
TZNAME:CEST
DTSTART:20270328T010000
END:DAYLIGHT
BEGIN:STANDARD
TZOFFSETFROM:+0200
TZOFFSETTO:+0100
TZNAME:CET
DTSTART:20271031T010000
END:STANDARD
END:VTIMEZONE
BEGIN:VEVENT
DTSTART;TZID=Europe/Madrid:20260416T193000
DTEND;TZID=Europe/Madrid:20260416T220000
DTSTAMP:20260423T194555
CREATED:20260301T144418Z
LAST-MODIFIED:20260301T144418Z
UID:2679-1776367800-1776376800@breezefm.es
SUMMARY:Kubatin Quiz
DESCRIPTION:Come and join us at the quiz that gives back to the community. Every Thursday at 7.30 at the Kubatin in Arboleas. Food and drinks are available and every week we raise money for worthy causes. New teams are always welcome.
URL:https://breezefm.es/event/kubatin-quiz-7/
LOCATION:Kubatin\, Arboleas\, Hotel Meson\, Calle Venta Mateo\, 5\, AL-8107\, 24\,\, Arboleas\, Almería\, 04660\, Spain
CATEGORIES:Charity,Quiz,This Week
END:VEVENT
BEGIN:VEVENT
DTSTART;TZID=Europe/Madrid:20260409T193000
DTEND;TZID=Europe/Madrid:20260409T220000
DTSTAMP:20260423T194555
CREATED:20260301T144418Z
LAST-MODIFIED:20260301T144418Z
UID:2678-1775763000-1775772000@breezefm.es
SUMMARY:Kubatin Quiz
DESCRIPTION:Come and join us at the quiz that gives back to the community. Every Thursday at 7.30 at the Kubatin in Arboleas. Food and drinks are available and every week we raise money for worthy causes. New teams are always welcome.
URL:https://breezefm.es/event/kubatin-quiz-6/
LOCATION:Kubatin\, Arboleas\, Hotel Meson\, Calle Venta Mateo\, 5\, AL-8107\, 24\,\, Arboleas\, Almería\, 04660\, Spain
CATEGORIES:Charity,Quiz,This Week
END:VEVENT
BEGIN:VEVENT
DTSTART;TZID=Europe/Madrid:20260402T193000
DTEND;TZID=Europe/Madrid:20260402T220000
DTSTAMP:20260423T194555
CREATED:20260301T144418Z
LAST-MODIFIED:20260301T144418Z
UID:2677-1775158200-1775167200@breezefm.es
SUMMARY:Kubatin Quiz
DESCRIPTION:Come and join us at the quiz that gives back to the community. Every Thursday at 7.30 at the Kubatin in Arboleas. Food and drinks are available and every week we raise money for worthy causes. New teams are always welcome.
URL:https://breezefm.es/event/kubatin-quiz-5/
LOCATION:Kubatin\, Arboleas\, Hotel Meson\, Calle Venta Mateo\, 5\, AL-8107\, 24\,\, Arboleas\, Almería\, 04660\, Spain
CATEGORIES:Charity,Quiz,This Week
END:VEVENT
BEGIN:VEVENT
DTSTART;TZID=Europe/Madrid:20260326T193000
DTEND;TZID=Europe/Madrid:20260326T220000
DTSTAMP:20260423T194555
CREATED:20260301T144418Z
LAST-MODIFIED:20260301T144418Z
UID:2676-1774553400-1774562400@breezefm.es
SUMMARY:Kubatin Quiz
DESCRIPTION:Come and join us at the quiz that gives back to the community. Every Thursday at 7.30 at the Kubatin in Arboleas. Food and drinks are available and every week we raise money for worthy causes. New teams are always welcome.
URL:https://breezefm.es/event/kubatin-quiz-4/
LOCATION:Kubatin\, Arboleas\, Hotel Meson\, Calle Venta Mateo\, 5\, AL-8107\, 24\,\, Arboleas\, Almería\, 04660\, Spain
CATEGORIES:Charity,Quiz,This Week
END:VEVENT
BEGIN:VEVENT
DTSTART;TZID=Europe/Madrid:20260319T193000
DTEND;TZID=Europe/Madrid:20260319T220000
DTSTAMP:20260423T194555
CREATED:20260301T144418Z
LAST-MODIFIED:20260301T144418Z
UID:2675-1773948600-1773957600@breezefm.es
SUMMARY:Kubatin Quiz
DESCRIPTION:Come and join us at the quiz that gives back to the community. Every Thursday at 7.30 at the Kubatin in Arboleas. Food and drinks are available and every week we raise money for worthy causes. New teams are always welcome.
URL:https://breezefm.es/event/kubatin-quiz-3/
LOCATION:Kubatin\, Arboleas\, Hotel Meson\, Calle Venta Mateo\, 5\, AL-8107\, 24\,\, Arboleas\, Almería\, 04660\, Spain
CATEGORIES:Charity,Quiz,This Week
END:VEVENT
BEGIN:VEVENT
DTSTART;TZID=Europe/Madrid:20260312T193000
DTEND;TZID=Europe/Madrid:20260312T220000
DTSTAMP:20260423T194555
CREATED:20260301T144418Z
LAST-MODIFIED:20260301T144418Z
UID:2674-1773343800-1773352800@breezefm.es
SUMMARY:Kubatin Quiz
DESCRIPTION:Come and join us at the quiz that gives back to the community. Every Thursday at 7.30 at the Kubatin in Arboleas. Food and drinks are available and every week we raise money for worthy causes. New teams are always welcome.
URL:https://breezefm.es/event/kubatin-quiz-2/
LOCATION:Kubatin\, Arboleas\, Hotel Meson\, Calle Venta Mateo\, 5\, AL-8107\, 24\,\, Arboleas\, Almería\, 04660\, Spain
CATEGORIES:Charity,Quiz,This Week
END:VEVENT
BEGIN:VEVENT
DTSTART;TZID=Europe/Madrid:20260307T190000
DTEND;TZID=Europe/Madrid:20260307T233000
DTSTAMP:20260423T194555
CREATED:20260121T123231Z
LAST-MODIFIED:20260301T144744Z
UID:2329-1772910000-1772926200@breezefm.es
SUMMARY:Age Support Almanzora's Divas' Night
DESCRIPTION:In recognition of International Women’s Day (8th March)\, Age Support Almanzora are hosting a fabulous Divas Night on Saturday 7th March at Harleys. \nThe evening will celebrate female talent and empowerment\, featuring three fantastic female artists alongside a burlesque performance. Breeze FM will be supporting the event with music throughout the night\, and there will also be a raffle in aid of Age Support Almanzora. \nA vibrant\, entertaining night celebrating women\, music\, and community — not to be missed. \nTHIS EVENT IS NOW SOLD OUT!
URL:https://breezefm.es/event/age-support-almanzoras-divas-night/
LOCATION:Harleys\, Calle Los Muebles 27\, Arboleas\, Almeria\, 04660\, Spain
CATEGORIES:ASA,Charity,This Week
ATTACH;FMTTYPE=image/png:https://breezefm.es/wp-content/uploads/2026/01/DIVA-NIGHT-1.png
ORGANIZER;CN="Age Support Almanzora":MAILTO:welfareteam.asa@gmail.com
END:VEVENT
BEGIN:VEVENT
DTSTART;TZID=Europe/Madrid:20260305T193000
DTEND;TZID=Europe/Madrid:20260305T220000
DTSTAMP:20260423T194555
CREATED:20260301T144320Z
LAST-MODIFIED:20260301T144418Z
UID:2672-1772739000-1772748000@breezefm.es
SUMMARY:Kubatin Quiz
DESCRIPTION:Come and join us at the quiz that gives back to the community. Every Thursday at 7.30 at the Kubatin in Arboleas. Food and drinks are available and every week we raise money for worthy causes. New teams are always welcome.
URL:https://breezefm.es/event/kubatin-quiz/
LOCATION:Kubatin\, Arboleas\, Hotel Meson\, Calle Venta Mateo\, 5\, AL-8107\, 24\,\, Arboleas\, Almería\, 04660\, Spain
CATEGORIES:Charity,Quiz,This Week
END:VEVENT
BEGIN:VEVENT
DTSTART;TZID=Europe/Madrid:20251228T170000
DTEND;TZID=Europe/Madrid:20251228T210000
DTSTAMP:20260423T194555
CREATED:20251224T212010Z
LAST-MODIFIED:20251224T212243Z
UID:1440-1766941200-1766955600@breezefm.es
SUMMARY:Midsupper Murders presents The Christmas Chronicles in aid of APSA
DESCRIPTION:Midsupper Murders presents The Christmas Chronicles make-up rehearsals on Sunday the 28th of December and Sunday the 4th of January at 5pm at AlArbuli\, Arboleas.\nTickets are 20 euros plus a bag of dog food or treats\, available from the APSA shop next to Harrison’s in Albox\, or by calling 711 04 04 44.
URL:https://breezefm.es/event/midsupper-murders-presents-the-christmas-chronicles/
LOCATION:Almería
CATEGORIES:APSA,Charity,This Week
ATTACH;FMTTYPE=image/png:https://breezefm.es/wp-content/uploads/2025/12/Christmas-Chronicles-APSA-socials.png
END:VEVENT
END:VCALENDAR