BEGIN:VCALENDAR
VERSION:2.0
PRODID:-//BREEZE 97.7FM - ECPv6.15.20//NONSGML v1.0//EN
CALSCALE:GREGORIAN
METHOD:PUBLISH
X-ORIGINAL-URL:https://breezefm.es
X-WR-CALDESC:Events for BREEZE 97.7FM
REFRESH-INTERVAL;VALUE=DURATION:PT1H
X-Robots-Tag:noindex
X-PUBLISHED-TTL:PT1H
BEGIN:VTIMEZONE
TZID:Europe/Madrid
BEGIN:DAYLIGHT
TZOFFSETFROM:+0100
TZOFFSETTO:+0200
TZNAME:CEST
DTSTART:20250330T010000
END:DAYLIGHT
BEGIN:STANDARD
TZOFFSETFROM:+0200
TZOFFSETTO:+0100
TZNAME:CET
DTSTART:20251026T010000
END:STANDARD
BEGIN:DAYLIGHT
TZOFFSETFROM:+0100
TZOFFSETTO:+0200
TZNAME:CEST
DTSTART:20260329T010000
END:DAYLIGHT
BEGIN:STANDARD
TZOFFSETFROM:+0200
TZOFFSETTO:+0100
TZNAME:CET
DTSTART:20261025T010000
END:STANDARD
BEGIN:DAYLIGHT
TZOFFSETFROM:+0100
TZOFFSETTO:+0200
TZNAME:CEST
DTSTART:20270328T010000
END:DAYLIGHT
BEGIN:STANDARD
TZOFFSETFROM:+0200
TZOFFSETTO:+0100
TZNAME:CET
DTSTART:20271031T010000
END:STANDARD
END:VTIMEZONE
BEGIN:VEVENT
DTSTART;TZID=Europe/Madrid:20260307T190000
DTEND;TZID=Europe/Madrid:20260307T233000
DTSTAMP:20260423T211029
CREATED:20260121T123231Z
LAST-MODIFIED:20260301T144744Z
UID:2329-1772910000-1772926200@breezefm.es
SUMMARY:Age Support Almanzora's Divas' Night
DESCRIPTION:In recognition of International Women’s Day (8th March)\, Age Support Almanzora are hosting a fabulous Divas Night on Saturday 7th March at Harleys. \nThe evening will celebrate female talent and empowerment\, featuring three fantastic female artists alongside a burlesque performance. Breeze FM will be supporting the event with music throughout the night\, and there will also be a raffle in aid of Age Support Almanzora. \nA vibrant\, entertaining night celebrating women\, music\, and community — not to be missed. \nTHIS EVENT IS NOW SOLD OUT!
URL:https://breezefm.es/event/age-support-almanzoras-divas-night/
LOCATION:Harleys\, Calle Los Muebles 27\, Arboleas\, Almeria\, 04660\, Spain
CATEGORIES:ASA,Charity,This Week
ATTACH;FMTTYPE=image/png:https://breezefm.es/wp-content/uploads/2026/01/DIVA-NIGHT-1.png
ORGANIZER;CN="Age Support Almanzora":MAILTO:welfareteam.asa@gmail.com
END:VEVENT
END:VCALENDAR