BEGIN:VCALENDAR
VERSION:2.0
PRODID:-//BREEZE 97.7FM - ECPv6.15.20//NONSGML v1.0//EN
CALSCALE:GREGORIAN
METHOD:PUBLISH
X-WR-CALNAME:BREEZE 97.7FM
X-ORIGINAL-URL:https://breezefm.es
X-WR-CALDESC:Events for BREEZE 97.7FM
REFRESH-INTERVAL;VALUE=DURATION:PT1H
X-Robots-Tag:noindex
X-PUBLISHED-TTL:PT1H
BEGIN:VTIMEZONE
TZID:Europe/Madrid
BEGIN:DAYLIGHT
TZOFFSETFROM:+0100
TZOFFSETTO:+0200
TZNAME:CEST
DTSTART:20240331T010000
END:DAYLIGHT
BEGIN:STANDARD
TZOFFSETFROM:+0200
TZOFFSETTO:+0100
TZNAME:CET
DTSTART:20241027T010000
END:STANDARD
BEGIN:DAYLIGHT
TZOFFSETFROM:+0100
TZOFFSETTO:+0200
TZNAME:CEST
DTSTART:20250330T010000
END:DAYLIGHT
BEGIN:STANDARD
TZOFFSETFROM:+0200
TZOFFSETTO:+0100
TZNAME:CET
DTSTART:20251026T010000
END:STANDARD
BEGIN:DAYLIGHT
TZOFFSETFROM:+0100
TZOFFSETTO:+0200
TZNAME:CEST
DTSTART:20260329T010000
END:DAYLIGHT
BEGIN:STANDARD
TZOFFSETFROM:+0200
TZOFFSETTO:+0100
TZNAME:CET
DTSTART:20261025T010000
END:STANDARD
BEGIN:DAYLIGHT
TZOFFSETFROM:+0100
TZOFFSETTO:+0200
TZNAME:CEST
DTSTART:20270328T010000
END:DAYLIGHT
BEGIN:STANDARD
TZOFFSETFROM:+0200
TZOFFSETTO:+0100
TZNAME:CET
DTSTART:20271031T010000
END:STANDARD
END:VTIMEZONE
BEGIN:VEVENT
DTSTART;TZID=Europe/Madrid:20260213T110000
DTEND;TZID=Europe/Madrid:20260213T130000
DTSTAMP:20260423T194629
CREATED:20260202T190736Z
LAST-MODIFIED:20260203T181649Z
UID:2541-1770980400-1770987600@breezefm.es
SUMMARY:Anthology Launch with The Written Word Group
DESCRIPTION:Enjoy readings from a brand-new collection of short stories and poetry by local authors.
URL:https://breezefm.es/event/anthology-launch/
LOCATION:Almanzora Group of Friends\, Plaza San Antonio\, Albox\, Almería\, 04800\, Spain
CATEGORIES:AGOF,Coming Soon
ATTACH;FMTTYPE=image/jpeg:https://breezefm.es/wp-content/uploads/2026/02/621585765_122183870216607897_5881847455742894052_n.jpg
END:VEVENT
BEGIN:VEVENT
DTSTART;TZID=Europe/Madrid:20260201T120000
DTEND;TZID=Europe/Madrid:20260201T140000
DTSTAMP:20260423T194629
CREATED:20260101T131940Z
LAST-MODIFIED:20260121T122105Z
UID:1846-1769947200-1769954400@breezefm.es
SUMMARY:Breeze 97.7fm's 6th Birthday
DESCRIPTION:
URL:https://breezefm.es/event/breeze-97-7fms-big-6th-birthday-bash/
LOCATION:Breeze 97.7fm Studio\, Avenida 28 de Febrero\, 2\, Albox\, Almería\, 04800\, Spain
CATEGORIES:Breeze Event,Coming Soon
ATTACH;FMTTYPE=image/png:https://breezefm.es/wp-content/uploads/2026/01/Breeze-6th-Birthday.png
ORGANIZER;CN="Breeze 97.7fm":MAILTO:studio@breezefm.es
END:VEVENT
BEGIN:VEVENT
DTSTART;TZID=Europe/Madrid:20251225T100000
DTEND;TZID=Europe/Madrid:20251225T120000
DTSTAMP:20260423T194629
CREATED:20251211T182602Z
LAST-MODIFIED:20251212T153852Z
UID:341-1766656800-1766664000@breezefm.es
SUMMARY:Breeze FM Christmas Day Open House
DESCRIPTION:Join us for the Breeze 97.7FM Christmas Day Open House! 10am–12pm at the Breeze Studio — Everyone welcome! \nPop in on Christmas morning for a couple of hours of pure festive cheer!We’ll have drinks and nibbles\, listener requests and shout-outs\, and maybe even a bit of carolling if the mood takes us! \nIt’s a chance to share a smile\, enjoy some company\, and start Christmas Day the Breezy way. \nNo need to book — just come along!Breeze Studio\, AlboxAll ages welcome \nLet’s make Christmas morning magical together.
URL:https://breezefm.es/event/breeze-fm-christmas-day-open-house/
LOCATION:Breeze 97.7fm Studio\, Avenida 28 de Febrero\, 2\, Albox\, Almería\, 04800\, Spain
CATEGORIES:Breeze Event,Christmas,Coming Soon
ATTACH;FMTTYPE=image/png:https://breezefm.es/wp-content/uploads/2025/12/Xmas-open-house-25.png
ORGANIZER;CN="Breeze 97.7fm":MAILTO:studio@breezefm.es
END:VEVENT
BEGIN:VEVENT
DTSTART;TZID=Europe/Madrid:20251222T123000
DTEND;TZID=Europe/Madrid:20251222T133000
DTSTAMP:20260423T194629
CREATED:20251212T153528Z
LAST-MODIFIED:20251212T154044Z
UID:405-1766406600-1766410200@breezefm.es
SUMMARY:Big Breeze Christmas Appeal Handover
DESCRIPTION: Breeze 97.7 FM Christmas Appeal — Supporting Local Families with Cáritas This Christmas\, we’re collecting new\, unwrapped gifts for children (up to age 12) — books\, puzzles\, craft sets\, dolls\, soft toys\, board games\, cars\, and radio-controlled toys are all perfect.(Keeping gifts unwrapped helps Cáritas match them to each child.)We’re also gathering festive food and treats like turrón\, polvorones\, biscuits\, chocolates\, and other seasonal favourites — plus donations towards a Christmas chicken for families in need.Everything collected stays 100% local\, helping households who need a little extra support this year. Drop off your donations to the Breeze 97.7 FM studio in Albox. Thank you for your kindness — it truly makes a difference.
URL:https://breezefm.es/event/big-breeze-christmas-appeal-handover/
LOCATION:Breeze 97.7fm Studio\, Avenida 28 de Febrero\, 2\, Albox\, Almería\, 04800\, Spain
CATEGORIES:Breeze Event,Christmas,Coming Soon
ATTACH;FMTTYPE=image/png:https://breezefm.es/wp-content/uploads/2025/12/BIG-BREEZE-Xmas-Raffle-1.png
ORGANIZER;CN="Breeze 97.7fm":MAILTO:studio@breezefm.es
END:VEVENT
BEGIN:VEVENT
DTSTART;TZID=Europe/Madrid:20251219T110000
DTEND;TZID=Europe/Madrid:20251219T140000
DTSTAMP:20260423T194629
CREATED:20251211T181142Z
LAST-MODIFIED:20251211T215234Z
UID:336-1766142000-1766152800@breezefm.es
SUMMARY:AA Dog Rescue – Christmas Coffee Morning
DESCRIPTION:Join AA Dog Rescue for a festive and friendly Christmas Coffee Morning filled with treats\, warmth\, and community spirit! \nCome along and enjoy a lovely seasonal get-together featuring:☕ Coffee & tea🍰 Delicious cakes🎁 Festive hampers🎟️ A Christmas raffle with prizes to be won \nIt’s the perfect chance to relax\, chat\, support a great cause\, and maybe pick up a little festive cheer while you’re there.
URL:https://breezefm.es/event/aa-dog-rescue-christmas-coffee-morning/
LOCATION:AA Dog Rescue\, Huércal Overa Shop\, Carretera Estación 143\, Huercal Overa\, Almeria\, 04600\, Spain
CATEGORIES:Coffee Morning,Coming Soon
END:VEVENT
END:VCALENDAR