BEGIN:VCALENDAR
VERSION:2.0
PRODID:-//BREEZE 97.7FM - ECPv6.15.20//NONSGML v1.0//EN
CALSCALE:GREGORIAN
METHOD:PUBLISH
X-WR-CALNAME:BREEZE 97.7FM
X-ORIGINAL-URL:https://breezefm.es
X-WR-CALDESC:Events for BREEZE 97.7FM
REFRESH-INTERVAL;VALUE=DURATION:PT1H
X-Robots-Tag:noindex
X-PUBLISHED-TTL:PT1H
BEGIN:VTIMEZONE
TZID:Europe/Madrid
BEGIN:DAYLIGHT
TZOFFSETFROM:+0100
TZOFFSETTO:+0200
TZNAME:CEST
DTSTART:20240331T010000
END:DAYLIGHT
BEGIN:STANDARD
TZOFFSETFROM:+0200
TZOFFSETTO:+0100
TZNAME:CET
DTSTART:20241027T010000
END:STANDARD
BEGIN:DAYLIGHT
TZOFFSETFROM:+0100
TZOFFSETTO:+0200
TZNAME:CEST
DTSTART:20250330T010000
END:DAYLIGHT
BEGIN:STANDARD
TZOFFSETFROM:+0200
TZOFFSETTO:+0100
TZNAME:CET
DTSTART:20251026T010000
END:STANDARD
BEGIN:DAYLIGHT
TZOFFSETFROM:+0100
TZOFFSETTO:+0200
TZNAME:CEST
DTSTART:20260329T010000
END:DAYLIGHT
BEGIN:STANDARD
TZOFFSETFROM:+0200
TZOFFSETTO:+0100
TZNAME:CET
DTSTART:20261025T010000
END:STANDARD
END:VTIMEZONE
BEGIN:VEVENT
DTSTART;TZID=Europe/Madrid:20251225T100000
DTEND;TZID=Europe/Madrid:20251225T120000
DTSTAMP:20260424T020447
CREATED:20251211T182602Z
LAST-MODIFIED:20251212T153852Z
UID:341-1766656800-1766664000@breezefm.es
SUMMARY:Breeze FM Christmas Day Open House
DESCRIPTION:Join us for the Breeze 97.7FM Christmas Day Open House! 10am–12pm at the Breeze Studio — Everyone welcome! \nPop in on Christmas morning for a couple of hours of pure festive cheer!We’ll have drinks and nibbles\, listener requests and shout-outs\, and maybe even a bit of carolling if the mood takes us! \nIt’s a chance to share a smile\, enjoy some company\, and start Christmas Day the Breezy way. \nNo need to book — just come along!Breeze Studio\, AlboxAll ages welcome \nLet’s make Christmas morning magical together.
URL:https://breezefm.es/event/breeze-fm-christmas-day-open-house/
LOCATION:Breeze 97.7fm Studio\, Avenida 28 de Febrero\, 2\, Albox\, Almería\, 04800\, Spain
CATEGORIES:Breeze Event,Christmas,Coming Soon
ATTACH;FMTTYPE=image/png:https://breezefm.es/wp-content/uploads/2025/12/Xmas-open-house-25.png
ORGANIZER;CN="Breeze 97.7fm":MAILTO:studio@breezefm.es
END:VEVENT
END:VCALENDAR