BEGIN:VCALENDAR
VERSION:2.0
PRODID:-//BREEZE 97.7FM - ECPv6.15.20//NONSGML v1.0//EN
CALSCALE:GREGORIAN
METHOD:PUBLISH
X-ORIGINAL-URL:https://breezefm.es
X-WR-CALDESC:Events for BREEZE 97.7FM
REFRESH-INTERVAL;VALUE=DURATION:PT1H
X-Robots-Tag:noindex
X-PUBLISHED-TTL:PT1H
BEGIN:VTIMEZONE
TZID:Europe/Madrid
BEGIN:DAYLIGHT
TZOFFSETFROM:+0100
TZOFFSETTO:+0200
TZNAME:CEST
DTSTART:20240331T010000
END:DAYLIGHT
BEGIN:STANDARD
TZOFFSETFROM:+0200
TZOFFSETTO:+0100
TZNAME:CET
DTSTART:20241027T010000
END:STANDARD
BEGIN:DAYLIGHT
TZOFFSETFROM:+0100
TZOFFSETTO:+0200
TZNAME:CEST
DTSTART:20250330T010000
END:DAYLIGHT
BEGIN:STANDARD
TZOFFSETFROM:+0200
TZOFFSETTO:+0100
TZNAME:CET
DTSTART:20251026T010000
END:STANDARD
BEGIN:DAYLIGHT
TZOFFSETFROM:+0100
TZOFFSETTO:+0200
TZNAME:CEST
DTSTART:20260329T010000
END:DAYLIGHT
BEGIN:STANDARD
TZOFFSETFROM:+0200
TZOFFSETTO:+0100
TZNAME:CET
DTSTART:20261025T010000
END:STANDARD
END:VTIMEZONE
BEGIN:VEVENT
DTSTART;TZID=Europe/Madrid:20251219T110000
DTEND;TZID=Europe/Madrid:20251219T140000
DTSTAMP:20260424T020548
CREATED:20251211T181142Z
LAST-MODIFIED:20251211T215234Z
UID:336-1766142000-1766152800@breezefm.es
SUMMARY:AA Dog Rescue – Christmas Coffee Morning
DESCRIPTION:Join AA Dog Rescue for a festive and friendly Christmas Coffee Morning filled with treats\, warmth\, and community spirit! \nCome along and enjoy a lovely seasonal get-together featuring:☕ Coffee & tea🍰 Delicious cakes🎁 Festive hampers🎟️ A Christmas raffle with prizes to be won \nIt’s the perfect chance to relax\, chat\, support a great cause\, and maybe pick up a little festive cheer while you’re there.
URL:https://breezefm.es/event/aa-dog-rescue-christmas-coffee-morning/
LOCATION:AA Dog Rescue\, Huércal Overa Shop\, Carretera Estación 143\, Huercal Overa\, Almeria\, 04600\, Spain
CATEGORIES:Coffee Morning,Coming Soon
END:VEVENT
END:VCALENDAR