BEGIN:VCALENDAR
VERSION:2.0
PRODID:-//BREEZE 97.7FM - ECPv6.15.20//NONSGML v1.0//EN
CALSCALE:GREGORIAN
METHOD:PUBLISH
X-ORIGINAL-URL:https://breezefm.es
X-WR-CALDESC:Events for BREEZE 97.7FM
REFRESH-INTERVAL;VALUE=DURATION:PT1H
X-Robots-Tag:noindex
X-PUBLISHED-TTL:PT1H
BEGIN:VTIMEZONE
TZID:Europe/Madrid
BEGIN:DAYLIGHT
TZOFFSETFROM:+0100
TZOFFSETTO:+0200
TZNAME:CEST
DTSTART:20250330T010000
END:DAYLIGHT
BEGIN:STANDARD
TZOFFSETFROM:+0200
TZOFFSETTO:+0100
TZNAME:CET
DTSTART:20251026T010000
END:STANDARD
BEGIN:DAYLIGHT
TZOFFSETFROM:+0100
TZOFFSETTO:+0200
TZNAME:CEST
DTSTART:20260329T010000
END:DAYLIGHT
BEGIN:STANDARD
TZOFFSETFROM:+0200
TZOFFSETTO:+0100
TZNAME:CET
DTSTART:20261025T010000
END:STANDARD
BEGIN:DAYLIGHT
TZOFFSETFROM:+0100
TZOFFSETTO:+0200
TZNAME:CEST
DTSTART:20270328T010000
END:DAYLIGHT
BEGIN:STANDARD
TZOFFSETFROM:+0200
TZOFFSETTO:+0100
TZNAME:CET
DTSTART:20271031T010000
END:STANDARD
END:VTIMEZONE
BEGIN:VEVENT
DTSTART;TZID=Europe/Madrid:20260207T140000
DTEND;TZID=Europe/Madrid:20260207T170000
DTSTAMP:20260424T021309
CREATED:20260121T124350Z
LAST-MODIFIED:20260121T124350Z
UID:2336-1770472800-1770483600@breezefm.es
SUMMARY:Puppy Rescue Quiz
DESCRIPTION:First Saturday of every month\, starting on 7th of February\, at Bar International (the bar opposite Los Llanos market).Maximum teams of 6 or lower\, 4€ entry fee per person.Food will be available at the venue.50€ prize money to the winning team.The Quiz starts at 2 pm prompt and we can’t wait to see you there To book please contact Jackie +44 7813 920 289
URL:https://breezefm.es/event/puppy-rescue-quiz/
LOCATION:New Bar International\, Area de servicio 10\,\, Arboleas\, Almeria\, 04660\, Spain
CATEGORIES:Puppy Rescue
ATTACH;FMTTYPE=image/jpeg:https://breezefm.es/wp-content/uploads/2026/01/615265163_1303054828530284_1851415742076378585_n.jpg
END:VEVENT
END:VCALENDAR