BEGIN:VCALENDAR
VERSION:2.0
PRODID:-//BREEZE 97.7FM - ECPv6.15.20//NONSGML v1.0//EN
CALSCALE:GREGORIAN
METHOD:PUBLISH
X-WR-CALNAME:BREEZE 97.7FM
X-ORIGINAL-URL:https://breezefm.es
X-WR-CALDESC:Events for BREEZE 97.7FM
REFRESH-INTERVAL;VALUE=DURATION:PT1H
X-Robots-Tag:noindex
X-PUBLISHED-TTL:PT1H
BEGIN:VTIMEZONE
TZID:Europe/Madrid
BEGIN:DAYLIGHT
TZOFFSETFROM:+0100
TZOFFSETTO:+0200
TZNAME:CEST
DTSTART:20250330T010000
END:DAYLIGHT
BEGIN:STANDARD
TZOFFSETFROM:+0200
TZOFFSETTO:+0100
TZNAME:CET
DTSTART:20251026T010000
END:STANDARD
BEGIN:DAYLIGHT
TZOFFSETFROM:+0100
TZOFFSETTO:+0200
TZNAME:CEST
DTSTART:20260329T010000
END:DAYLIGHT
BEGIN:STANDARD
TZOFFSETFROM:+0200
TZOFFSETTO:+0100
TZNAME:CET
DTSTART:20261025T010000
END:STANDARD
BEGIN:DAYLIGHT
TZOFFSETFROM:+0100
TZOFFSETTO:+0200
TZNAME:CEST
DTSTART:20270328T010000
END:DAYLIGHT
BEGIN:STANDARD
TZOFFSETFROM:+0200
TZOFFSETTO:+0100
TZNAME:CET
DTSTART:20271031T010000
END:STANDARD
BEGIN:DAYLIGHT
TZOFFSETFROM:+0100
TZOFFSETTO:+0200
TZNAME:CEST
DTSTART:20280326T010000
END:DAYLIGHT
BEGIN:STANDARD
TZOFFSETFROM:+0200
TZOFFSETTO:+0100
TZNAME:CET
DTSTART:20281029T010000
END:STANDARD
END:VTIMEZONE
BEGIN:VEVENT
DTSTART;TZID=Europe/Madrid:20261224T193000
DTEND;TZID=Europe/Madrid:20261224T220000
DTSTAMP:20260424T023018
CREATED:20260331T194314Z
LAST-MODIFIED:20260331T194314Z
UID:2765-1798140600-1798149600@breezefm.es
SUMMARY:Kubatin Quiz
DESCRIPTION:Come and join us at the quiz that gives back to the community. Every Thursday at 7.30 at the Kubatin in Arboleas. Food and drinks are available and every week we raise money for worthy causes. New teams are always welcome.
URL:https://breezefm.es/event/kubatin-quiz-43/
LOCATION:Kubatin\, Arboleas\, Hotel Meson\, Calle Venta Mateo\, 5\, AL-8107\, 24\,\, Arboleas\, Almería\, 04660\, Spain
CATEGORIES:Charity,Coming Soon,Quiz
END:VEVENT
BEGIN:VEVENT
DTSTART;TZID=Europe/Madrid:20261231T193000
DTEND;TZID=Europe/Madrid:20261231T220000
DTSTAMP:20260424T023018
CREATED:20260331T194314Z
LAST-MODIFIED:20260331T194314Z
UID:2766-1798745400-1798754400@breezefm.es
SUMMARY:Kubatin Quiz
DESCRIPTION:Come and join us at the quiz that gives back to the community. Every Thursday at 7.30 at the Kubatin in Arboleas. Food and drinks are available and every week we raise money for worthy causes. New teams are always welcome.
URL:https://breezefm.es/event/kubatin-quiz-44/
LOCATION:Kubatin\, Arboleas\, Hotel Meson\, Calle Venta Mateo\, 5\, AL-8107\, 24\,\, Arboleas\, Almería\, 04660\, Spain
CATEGORIES:Charity,Coming Soon,Quiz
END:VEVENT
BEGIN:VEVENT
DTSTART;TZID=Europe/Madrid:20270107T193000
DTEND;TZID=Europe/Madrid:20270107T220000
DTSTAMP:20260424T023018
CREATED:20260331T194314Z
LAST-MODIFIED:20260331T194314Z
UID:2767-1799350200-1799359200@breezefm.es
SUMMARY:Kubatin Quiz
DESCRIPTION:Come and join us at the quiz that gives back to the community. Every Thursday at 7.30 at the Kubatin in Arboleas. Food and drinks are available and every week we raise money for worthy causes. New teams are always welcome.
URL:https://breezefm.es/event/kubatin-quiz-45/
LOCATION:Kubatin\, Arboleas\, Hotel Meson\, Calle Venta Mateo\, 5\, AL-8107\, 24\,\, Arboleas\, Almería\, 04660\, Spain
CATEGORIES:Charity,Coming Soon,Quiz
END:VEVENT
BEGIN:VEVENT
DTSTART;TZID=Europe/Madrid:20270114T193000
DTEND;TZID=Europe/Madrid:20270114T220000
DTSTAMP:20260424T023018
CREATED:20260331T194315Z
LAST-MODIFIED:20260331T194315Z
UID:2768-1799955000-1799964000@breezefm.es
SUMMARY:Kubatin Quiz
DESCRIPTION:Come and join us at the quiz that gives back to the community. Every Thursday at 7.30 at the Kubatin in Arboleas. Food and drinks are available and every week we raise money for worthy causes. New teams are always welcome.
URL:https://breezefm.es/event/kubatin-quiz-46/
LOCATION:Kubatin\, Arboleas\, Hotel Meson\, Calle Venta Mateo\, 5\, AL-8107\, 24\,\, Arboleas\, Almería\, 04660\, Spain
CATEGORIES:Charity,Coming Soon,Quiz
END:VEVENT
BEGIN:VEVENT
DTSTART;TZID=Europe/Madrid:20270121T193000
DTEND;TZID=Europe/Madrid:20270121T220000
DTSTAMP:20260424T023018
CREATED:20260331T194315Z
LAST-MODIFIED:20260331T194315Z
UID:2769-1800559800-1800568800@breezefm.es
SUMMARY:Kubatin Quiz
DESCRIPTION:Come and join us at the quiz that gives back to the community. Every Thursday at 7.30 at the Kubatin in Arboleas. Food and drinks are available and every week we raise money for worthy causes. New teams are always welcome.
URL:https://breezefm.es/event/kubatin-quiz-47/
LOCATION:Kubatin\, Arboleas\, Hotel Meson\, Calle Venta Mateo\, 5\, AL-8107\, 24\,\, Arboleas\, Almería\, 04660\, Spain
CATEGORIES:Charity,Coming Soon,Quiz
END:VEVENT
BEGIN:VEVENT
DTSTART;TZID=Europe/Madrid:20270128T193000
DTEND;TZID=Europe/Madrid:20270128T220000
DTSTAMP:20260424T023018
CREATED:20260331T194315Z
LAST-MODIFIED:20260331T194315Z
UID:2770-1801164600-1801173600@breezefm.es
SUMMARY:Kubatin Quiz
DESCRIPTION:Come and join us at the quiz that gives back to the community. Every Thursday at 7.30 at the Kubatin in Arboleas. Food and drinks are available and every week we raise money for worthy causes. New teams are always welcome.
URL:https://breezefm.es/event/kubatin-quiz-48/
LOCATION:Kubatin\, Arboleas\, Hotel Meson\, Calle Venta Mateo\, 5\, AL-8107\, 24\,\, Arboleas\, Almería\, 04660\, Spain
CATEGORIES:Charity,Coming Soon,Quiz
END:VEVENT
BEGIN:VEVENT
DTSTART;TZID=Europe/Madrid:20270204T193000
DTEND;TZID=Europe/Madrid:20270204T220000
DTSTAMP:20260424T023018
CREATED:20260331T194316Z
LAST-MODIFIED:20260331T194316Z
UID:2771-1801769400-1801778400@breezefm.es
SUMMARY:Kubatin Quiz
DESCRIPTION:Come and join us at the quiz that gives back to the community. Every Thursday at 7.30 at the Kubatin in Arboleas. Food and drinks are available and every week we raise money for worthy causes. New teams are always welcome.
URL:https://breezefm.es/event/kubatin-quiz-49/
LOCATION:Kubatin\, Arboleas\, Hotel Meson\, Calle Venta Mateo\, 5\, AL-8107\, 24\,\, Arboleas\, Almería\, 04660\, Spain
CATEGORIES:Charity,Coming Soon,Quiz
END:VEVENT
BEGIN:VEVENT
DTSTART;TZID=Europe/Madrid:20270211T193000
DTEND;TZID=Europe/Madrid:20270211T220000
DTSTAMP:20260424T023018
CREATED:20260331T194316Z
LAST-MODIFIED:20260331T194316Z
UID:2772-1802374200-1802383200@breezefm.es
SUMMARY:Kubatin Quiz
DESCRIPTION:Come and join us at the quiz that gives back to the community. Every Thursday at 7.30 at the Kubatin in Arboleas. Food and drinks are available and every week we raise money for worthy causes. New teams are always welcome.
URL:https://breezefm.es/event/kubatin-quiz-50/
LOCATION:Kubatin\, Arboleas\, Hotel Meson\, Calle Venta Mateo\, 5\, AL-8107\, 24\,\, Arboleas\, Almería\, 04660\, Spain
CATEGORIES:Charity,Coming Soon,Quiz
END:VEVENT
BEGIN:VEVENT
DTSTART;TZID=Europe/Madrid:20270218T193000
DTEND;TZID=Europe/Madrid:20270218T220000
DTSTAMP:20260424T023018
CREATED:20260331T194316Z
LAST-MODIFIED:20260331T194316Z
UID:2773-1802979000-1802988000@breezefm.es
SUMMARY:Kubatin Quiz
DESCRIPTION:Come and join us at the quiz that gives back to the community. Every Thursday at 7.30 at the Kubatin in Arboleas. Food and drinks are available and every week we raise money for worthy causes. New teams are always welcome.
URL:https://breezefm.es/event/kubatin-quiz-51/
LOCATION:Kubatin\, Arboleas\, Hotel Meson\, Calle Venta Mateo\, 5\, AL-8107\, 24\,\, Arboleas\, Almería\, 04660\, Spain
CATEGORIES:Charity,Coming Soon,Quiz
END:VEVENT
BEGIN:VEVENT
DTSTART;TZID=Europe/Madrid:20270225T193000
DTEND;TZID=Europe/Madrid:20270225T220000
DTSTAMP:20260424T023018
CREATED:20260331T194317Z
LAST-MODIFIED:20260331T194317Z
UID:2774-1803583800-1803592800@breezefm.es
SUMMARY:Kubatin Quiz
DESCRIPTION:Come and join us at the quiz that gives back to the community. Every Thursday at 7.30 at the Kubatin in Arboleas. Food and drinks are available and every week we raise money for worthy causes. New teams are always welcome.
URL:https://breezefm.es/event/kubatin-quiz-52/
LOCATION:Kubatin\, Arboleas\, Hotel Meson\, Calle Venta Mateo\, 5\, AL-8107\, 24\,\, Arboleas\, Almería\, 04660\, Spain
CATEGORIES:Charity,Coming Soon,Quiz
END:VEVENT
END:VCALENDAR