BEGIN:VCALENDAR
VERSION:2.0
PRODID:-//BREEZE 97.7FM - ECPv6.15.20//NONSGML v1.0//EN
CALSCALE:GREGORIAN
METHOD:PUBLISH
X-WR-CALNAME:BREEZE 97.7FM
X-ORIGINAL-URL:https://breezefm.es
X-WR-CALDESC:Events for BREEZE 97.7FM
REFRESH-INTERVAL;VALUE=DURATION:PT1H
X-Robots-Tag:noindex
X-PUBLISHED-TTL:PT1H
BEGIN:VTIMEZONE
TZID:Europe/Madrid
BEGIN:DAYLIGHT
TZOFFSETFROM:+0100
TZOFFSETTO:+0200
TZNAME:CEST
DTSTART:20250330T010000
END:DAYLIGHT
BEGIN:STANDARD
TZOFFSETFROM:+0200
TZOFFSETTO:+0100
TZNAME:CET
DTSTART:20251026T010000
END:STANDARD
BEGIN:DAYLIGHT
TZOFFSETFROM:+0100
TZOFFSETTO:+0200
TZNAME:CEST
DTSTART:20260329T010000
END:DAYLIGHT
BEGIN:STANDARD
TZOFFSETFROM:+0200
TZOFFSETTO:+0100
TZNAME:CET
DTSTART:20261025T010000
END:STANDARD
BEGIN:DAYLIGHT
TZOFFSETFROM:+0100
TZOFFSETTO:+0200
TZNAME:CEST
DTSTART:20270328T010000
END:DAYLIGHT
BEGIN:STANDARD
TZOFFSETFROM:+0200
TZOFFSETTO:+0100
TZNAME:CET
DTSTART:20271031T010000
END:STANDARD
END:VTIMEZONE
BEGIN:VEVENT
DTSTART;TZID=Europe/Madrid:20260419T100000
DTEND;TZID=Europe/Madrid:20260419T140000
DTSTAMP:20260423T200946
CREATED:20260331T203805Z
LAST-MODIFIED:20260331T203805Z
UID:2789-1776592800-1776607200@breezefm.es
SUMMARY:Car & Grill Charity Event
DESCRIPTION:A fantastic community event is coming to Cantoria\, raising funds for a life-saving cause. \nCar & Grill are fundraising to install a community defibrillator outside the Town Hall — a vital resource that could save lives. \nWhat’s happening on the day:🚘 Classic & performance car display🎶 Live music from Rewind🔥 BBQ and food available🎟️ Raffle prize draw \n🕙 10:00 – Vehicles assemble🕚 11:00 – Live music🕛 12:00 – BBQ opens🕐 13:00 – Raffle draw \nA great day out for car lovers\, music fans and the whole community — all supporting a brilliant cause.
URL:https://breezefm.es/event/car-grill-charity-event/
LOCATION:Sara’s Cafe\, Sara's Cafe\, Calle del Almanzora\, Cantoria\, Almeria\, 04850\, Spain
CATEGORIES:Charity,Classic Cars
ATTACH;FMTTYPE=image/jpeg:https://breezefm.es/wp-content/uploads/2026/03/653712172_10163111618544830_4874144329798342717_n.jpg
END:VEVENT
END:VCALENDAR