BEGIN:VCALENDAR
VERSION:2.0
PRODID:-//BREEZE 97.7FM - ECPv6.15.20//NONSGML v1.0//EN
CALSCALE:GREGORIAN
METHOD:PUBLISH
X-ORIGINAL-URL:https://breezefm.es
X-WR-CALDESC:Events for BREEZE 97.7FM
REFRESH-INTERVAL;VALUE=DURATION:PT1H
X-Robots-Tag:noindex
X-PUBLISHED-TTL:PT1H
BEGIN:VTIMEZONE
TZID:Europe/Madrid
BEGIN:DAYLIGHT
TZOFFSETFROM:+0100
TZOFFSETTO:+0200
TZNAME:CEST
DTSTART:20250330T010000
END:DAYLIGHT
BEGIN:STANDARD
TZOFFSETFROM:+0200
TZOFFSETTO:+0100
TZNAME:CET
DTSTART:20251026T010000
END:STANDARD
BEGIN:DAYLIGHT
TZOFFSETFROM:+0100
TZOFFSETTO:+0200
TZNAME:CEST
DTSTART:20260329T010000
END:DAYLIGHT
BEGIN:STANDARD
TZOFFSETFROM:+0200
TZOFFSETTO:+0100
TZNAME:CET
DTSTART:20261025T010000
END:STANDARD
BEGIN:DAYLIGHT
TZOFFSETFROM:+0100
TZOFFSETTO:+0200
TZNAME:CEST
DTSTART:20270328T010000
END:DAYLIGHT
BEGIN:STANDARD
TZOFFSETFROM:+0200
TZOFFSETTO:+0100
TZNAME:CET
DTSTART:20271031T010000
END:STANDARD
END:VTIMEZONE
BEGIN:VEVENT
DTSTART;TZID=Europe/Madrid:20260315T143000
DTEND;TZID=Europe/Madrid:20260315T170000
DTSTAMP:20260424T010455
CREATED:20260301T131923Z
LAST-MODIFIED:20260301T131923Z
UID:2653-1773585000-1773594000@breezefm.es
SUMMARY:Age Support Almanzora's Afternoon Tea and Fashion Show
DESCRIPTION:Age Support Almanzora presents an Afternoon Tea and Fashion Show on Sunday the 15th of March from 2.30 to 5pm at the Age Support Charity Shop in Albox — and it’s nearly sold out.Enjoy cava on arrival\, live singing from Lady Ellen\, and a special Mothering Sunday celebration hosted by our very own Russ Lewell.Tickets are 15 euros\, but places are limited — so book now at the Age Support shop in Albox.
URL:https://breezefm.es/event/age-support-almanzoras-afternoon-tea-and-fashion-show/
LOCATION:Age Support Almanzora\, Avenida Lepanto\, 2\, Albox\, Almería\, 04800\, Spain
CATEGORIES:ASA
ATTACH;FMTTYPE=image/jpeg:https://breezefm.es/wp-content/uploads/2026/03/643894679_1322756699879196_1489041362011046699_n.jpg
ORGANIZER;CN="Age Support Almanzora":MAILTO:welfareteam.asa@gmail.com
END:VEVENT
END:VCALENDAR