BEGIN:VCALENDAR
VERSION:2.0
PRODID:-//BREEZE 97.7FM - ECPv6.15.20//NONSGML v1.0//EN
CALSCALE:GREGORIAN
METHOD:PUBLISH
X-ORIGINAL-URL:https://breezefm.es
X-WR-CALDESC:Events for BREEZE 97.7FM
REFRESH-INTERVAL;VALUE=DURATION:PT1H
X-Robots-Tag:noindex
X-PUBLISHED-TTL:PT1H
BEGIN:VTIMEZONE
TZID:Europe/Madrid
BEGIN:DAYLIGHT
TZOFFSETFROM:+0100
TZOFFSETTO:+0200
TZNAME:CEST
DTSTART:20250330T010000
END:DAYLIGHT
BEGIN:STANDARD
TZOFFSETFROM:+0200
TZOFFSETTO:+0100
TZNAME:CET
DTSTART:20251026T010000
END:STANDARD
BEGIN:DAYLIGHT
TZOFFSETFROM:+0100
TZOFFSETTO:+0200
TZNAME:CEST
DTSTART:20260329T010000
END:DAYLIGHT
BEGIN:STANDARD
TZOFFSETFROM:+0200
TZOFFSETTO:+0100
TZNAME:CET
DTSTART:20261025T010000
END:STANDARD
BEGIN:DAYLIGHT
TZOFFSETFROM:+0100
TZOFFSETTO:+0200
TZNAME:CEST
DTSTART:20270328T010000
END:DAYLIGHT
BEGIN:STANDARD
TZOFFSETFROM:+0200
TZOFFSETTO:+0100
TZNAME:CET
DTSTART:20271031T010000
END:STANDARD
END:VTIMEZONE
BEGIN:VEVENT
DTSTART;TZID=Europe/Madrid:20260314T140000
DTEND;TZID=Europe/Madrid:20260314T190000
DTSTAMP:20260423T194736
CREATED:20260301T132506Z
LAST-MODIFIED:20260301T132506Z
UID:2657-1773496800-1773514800@breezefm.es
SUMMARY:AA Dog Rescue: New Trinidad Rocks!
DESCRIPTION:AA Dog Rescue presents “The New Trinidad Rocks!” on Saturday 14th March from 2pm.\nHead along for a fantastic fun afternoon with live music from Cloud Nine\, raffles\, prizes\, games\, plus food and drinks available — so don’t forget your dancing shoes!\nEntry is just 2 euros at the door\, with all proceeds going to the charity.\nTo reserve your place\, call or WhatsApp Gail on 679 937 753.
URL:https://breezefm.es/event/aa-dog-rescue-new-trinidad-rocks/
LOCATION:New Trinidad\, AL-8107\, Arboleas\, Almeria\, 04660\, Spain
CATEGORIES:AA Dog Rescue
ATTACH;FMTTYPE=image/jpeg:https://breezefm.es/wp-content/uploads/2026/03/638914680_3452323718259399_7941895187541917865_n.jpg
END:VEVENT
BEGIN:VEVENT
DTSTART;TZID=Europe/Madrid:20260228T140000
DTEND;TZID=Europe/Madrid:20260228T180000
DTSTAMP:20260423T194736
CREATED:20260202T180146Z
LAST-MODIFIED:20260202T180146Z
UID:2522-1772287200-1772301600@breezefm.es
SUMMARY:AA Dog Rescue Music Bingo Brunch
DESCRIPTION:AA Dog Rescue is inviting you to a Music Bingo Brunch on Saturday the 28th of February\, from 2pm\, at New Trinidad in Arboleas.Enjoy a fun afternoon of music bingo with prizes\, sounds from the 70s\, 80s and 90s\, plus a stand-up bingo\, raffle\, and food and drink available at the venue.Entry is free\, and all proceeds go towards supporting the dogs at AA Dog Rescue.
URL:https://breezefm.es/event/aa-dog-rescue-music-bingo-brunch/
LOCATION:New Trinidad\, AL-8107\, Arboleas\, Almeria\, 04660\, Spain
CATEGORIES:AA Dog Rescue
ATTACH;FMTTYPE=image/jpeg:https://breezefm.es/wp-content/uploads/2026/02/626431347_10237105797536121_2546808531482898263_n.jpg
END:VEVENT
END:VCALENDAR