BEGIN:VCALENDAR
VERSION:2.0
PRODID:-//BREEZE 97.7FM - ECPv6.15.20//NONSGML v1.0//EN
CALSCALE:GREGORIAN
METHOD:PUBLISH
X-WR-CALNAME:BREEZE 97.7FM
X-ORIGINAL-URL:https://breezefm.es
X-WR-CALDESC:Events for BREEZE 97.7FM
REFRESH-INTERVAL;VALUE=DURATION:PT1H
X-Robots-Tag:noindex
X-PUBLISHED-TTL:PT1H
BEGIN:VTIMEZONE
TZID:Europe/Madrid
BEGIN:DAYLIGHT
TZOFFSETFROM:+0100
TZOFFSETTO:+0200
TZNAME:CEST
DTSTART:20250330T010000
END:DAYLIGHT
BEGIN:STANDARD
TZOFFSETFROM:+0200
TZOFFSETTO:+0100
TZNAME:CET
DTSTART:20251026T010000
END:STANDARD
BEGIN:DAYLIGHT
TZOFFSETFROM:+0100
TZOFFSETTO:+0200
TZNAME:CEST
DTSTART:20260329T010000
END:DAYLIGHT
BEGIN:STANDARD
TZOFFSETFROM:+0200
TZOFFSETTO:+0100
TZNAME:CET
DTSTART:20261025T010000
END:STANDARD
BEGIN:DAYLIGHT
TZOFFSETFROM:+0100
TZOFFSETTO:+0200
TZNAME:CEST
DTSTART:20270328T010000
END:DAYLIGHT
BEGIN:STANDARD
TZOFFSETFROM:+0200
TZOFFSETTO:+0100
TZNAME:CET
DTSTART:20271031T010000
END:STANDARD
END:VTIMEZONE
BEGIN:VEVENT
DTSTART;TZID=Europe/Madrid:20260423T193000
DTEND;TZID=Europe/Madrid:20260423T220000
DTSTAMP:20260423T143306
CREATED:20260301T144418Z
LAST-MODIFIED:20260301T144418Z
UID:2680-1776972600-1776981600@breezefm.es
SUMMARY:Kubatin Quiz
DESCRIPTION:Come and join us at the quiz that gives back to the community. Every Thursday at 7.30 at the Kubatin in Arboleas. Food and drinks are available and every week we raise money for worthy causes. New teams are always welcome.
URL:https://breezefm.es/event/kubatin-quiz-8/
LOCATION:Kubatin\, Arboleas\, Hotel Meson\, Calle Venta Mateo\, 5\, AL-8107\, 24\,\, Arboleas\, Almería\, 04660\, Spain
CATEGORIES:Charity,Quiz,This Week
END:VEVENT
BEGIN:VEVENT
DTSTART;TZID=Europe/Madrid:20260424T160000
DTEND;TZID=Europe/Madrid:20260424T170000
DTSTAMP:20260423T143306
CREATED:20251213T165527Z
LAST-MODIFIED:20251213T165527Z
UID:658-1777046400-1777050000@breezefm.es
SUMMARY:Coffee and Spanglish!
DESCRIPTION:Coffee & Spanglish – Free weekly meet-up!\nPractice your English or Spanish (or both!) in a relaxed\, friendly setting.\n\n\n Every Friday at 4:00pm\n Free – all levels welcome\n\n\nCome for the chat\, stay for the coffee and new friends. ¡Nos vemos! / See you there!
URL:https://breezefm.es/event/coffee-and-spanglish-20/
LOCATION:Almanzora Group of Friends\, Plaza San Antonio\, Albox\, Almería\, 04800\, Spain
CATEGORIES:Learn Spanish
ATTACH;FMTTYPE=image/png:https://breezefm.es/wp-content/uploads/2025/12/SPANGLISH.png
END:VEVENT
BEGIN:VEVENT
DTSTART;TZID=Europe/Madrid:20260426T120000
DTEND;TZID=Europe/Madrid:20260426T180000
DTSTAMP:20260423T143306
CREATED:20260331T202222Z
LAST-MODIFIED:20260331T202222Z
UID:2779-1777204800-1777226400@breezefm.es
SUMMARY:The Big Mac 11 in aid of MACS
DESCRIPTION:An unforgettable day of music\, fun and community spirit in support of MACS Cancer Charity  Live music line-up includes:Kay FrancesMarilyn ShipleyJack LawMelanie BrooksFlying RumoursQURTGlam Slam Entry just €5 per person (payable on the day) Children under 12 go FREE What’s on:• Stalls• Hot & cold food• Delicious cakes• Tómbola• Squares board…and so much more!Bring your friends\, bring your family and help raise vital funds while enjoying an amazing day out
URL:https://breezefm.es/event/the-big-mac-11-in-aid-of-macs/
LOCATION:Hostal Rural\, Turre\, Paraje El Gitano\, AL-6111\, Turre\,\, Almeria\, 04639
CATEGORIES:MACS
ATTACH;FMTTYPE=image/jpeg:https://breezefm.es/wp-content/uploads/2026/03/661075092_1260812276177280_3465629389201502772_n.jpg
ORGANIZER;CN="MACS Cancer Support":MAILTO:macshannon@gmail.com
END:VEVENT
BEGIN:VEVENT
DTSTART;TZID=Europe/Madrid:20260428T123000
DTEND;TZID=Europe/Madrid:20260428T163000
DTSTAMP:20260423T143306
CREATED:20260308T223011Z
LAST-MODIFIED:20260308T223011Z
UID:2701-1777379400-1777393800@breezefm.es
SUMMARY:APSA Charity Fashion Show
DESCRIPTION:Enjoy an afternoon of fashion\, fun\, and fundraising at the APSA Fashion Show\, taking place on Tuesday 28th April at Hostal Rural in Turre. \nDoors open: 12:30pmTickets: 5€ \nThere’ll be plenty to enjoy\, including:• A fabulous fashion show• Fashion & accessories stalls• A tombola with great prizes• Food and drinks available \nTickets available from:Hostal Rural (Turre)\, APSA Charity Shop (Albox)\, or contact Sally on 620 210 857. \nCome along\, support a wonderful cause\, and enjoy a stylish afternoon out while helping raise funds for APSA.
URL:https://breezefm.es/event/apsa-charity-fashion-show/
LOCATION:Hostal Rural\, Turre\, Paraje El Gitano\, AL-6111\, Turre\,\, Almeria\, 04639
CATEGORIES:APSA,Charity
ATTACH;FMTTYPE=image/jpeg:https://breezefm.es/wp-content/uploads/2026/03/646420117_1389046753255158_5071128353201865409_n.jpg
END:VEVENT
BEGIN:VEVENT
DTSTART;TZID=Europe/Madrid:20260430T193000
DTEND;TZID=Europe/Madrid:20260430T220000
DTSTAMP:20260423T143306
CREATED:20260301T144418Z
LAST-MODIFIED:20260301T144418Z
UID:2681-1777577400-1777586400@breezefm.es
SUMMARY:Kubatin Quiz
DESCRIPTION:Come and join us at the quiz that gives back to the community. Every Thursday at 7.30 at the Kubatin in Arboleas. Food and drinks are available and every week we raise money for worthy causes. New teams are always welcome.
URL:https://breezefm.es/event/kubatin-quiz-9/
LOCATION:Kubatin\, Arboleas\, Hotel Meson\, Calle Venta Mateo\, 5\, AL-8107\, 24\,\, Arboleas\, Almería\, 04660\, Spain
CATEGORIES:Charity,Quiz,This Week
END:VEVENT
BEGIN:VEVENT
DTSTART;TZID=Europe/Madrid:20260501T160000
DTEND;TZID=Europe/Madrid:20260501T170000
DTSTAMP:20260423T143306
CREATED:20251213T165527Z
LAST-MODIFIED:20251213T165527Z
UID:659-1777651200-1777654800@breezefm.es
SUMMARY:Coffee and Spanglish!
DESCRIPTION:Coffee & Spanglish – Free weekly meet-up!\nPractice your English or Spanish (or both!) in a relaxed\, friendly setting.\n\n\n Every Friday at 4:00pm\n Free – all levels welcome\n\n\nCome for the chat\, stay for the coffee and new friends. ¡Nos vemos! / See you there!
URL:https://breezefm.es/event/coffee-and-spanglish-21/
LOCATION:Almanzora Group of Friends\, Plaza San Antonio\, Albox\, Almería\, 04800\, Spain
CATEGORIES:Learn Spanish
ATTACH;FMTTYPE=image/png:https://breezefm.es/wp-content/uploads/2025/12/SPANGLISH.png
END:VEVENT
BEGIN:VEVENT
DTSTART;TZID=Europe/Madrid:20260503T110000
DTEND;TZID=Europe/Madrid:20260503T160000
DTSTAMP:20260423T143306
CREATED:20260331T193749Z
LAST-MODIFIED:20260331T194741Z
UID:2743-1777806000-1777824000@breezefm.es
SUMMARY:AA Dog Rescue Dog Show & Craft Fayre Funday
DESCRIPTION:Dog Show & Craft Fayre Funday is coming to Arboleas! 🐾 \nGet ready for a brilliant day out for the whole family (and your four-legged friends too 🐶) \nThere’s loads going on: \n🎟️ No entrance fee\n🐕 10 fun dog show classes – including waggiest dog & best rescue🎁 A gift for every dog entry🛍️ Arty\, crafty stalls🔥 BBQ\, cakes\, hot & cold drinks🎟️ Raffles\, prizes and more \n⭐ Plus celebrity judges The Garners from “Sun\, Sea and Selling Houses” \nWhether you’re entering your pup or just coming along for a great day out\, it’s set to be a fantastic community event in support of a great cause
URL:https://breezefm.es/event/aa-dog-rescue-dog-show-craft-fayre-funday/
LOCATION:Arboleas Social Centre\, Opposite the Medical Centre\, Arboleas\, Almeria\, 04660\, Spain
CATEGORIES:AA Dog Rescue,Coming Soon
ATTACH;FMTTYPE=image/jpeg:https://breezefm.es/wp-content/uploads/2026/03/661748613_10237878289087927_2899816860705564777_n.jpg
END:VEVENT
BEGIN:VEVENT
DTSTART;TZID=Europe/Madrid:20260507T193000
DTEND;TZID=Europe/Madrid:20260507T220000
DTSTAMP:20260423T143306
CREATED:20260301T144418Z
LAST-MODIFIED:20260301T144418Z
UID:2682-1778182200-1778191200@breezefm.es
SUMMARY:Kubatin Quiz
DESCRIPTION:Come and join us at the quiz that gives back to the community. Every Thursday at 7.30 at the Kubatin in Arboleas. Food and drinks are available and every week we raise money for worthy causes. New teams are always welcome.
URL:https://breezefm.es/event/kubatin-quiz-10/
LOCATION:Kubatin\, Arboleas\, Hotel Meson\, Calle Venta Mateo\, 5\, AL-8107\, 24\,\, Arboleas\, Almería\, 04660\, Spain
CATEGORIES:Charity,Quiz,This Week
END:VEVENT
BEGIN:VEVENT
DTSTART;TZID=Europe/Madrid:20260508T160000
DTEND;TZID=Europe/Madrid:20260508T170000
DTSTAMP:20260423T143306
CREATED:20251213T165527Z
LAST-MODIFIED:20251213T165527Z
UID:660-1778256000-1778259600@breezefm.es
SUMMARY:Coffee and Spanglish!
DESCRIPTION:Coffee & Spanglish – Free weekly meet-up!\nPractice your English or Spanish (or both!) in a relaxed\, friendly setting.\n\n\n Every Friday at 4:00pm\n Free – all levels welcome\n\n\nCome for the chat\, stay for the coffee and new friends. ¡Nos vemos! / See you there!
URL:https://breezefm.es/event/coffee-and-spanglish-22/
LOCATION:Almanzora Group of Friends\, Plaza San Antonio\, Albox\, Almería\, 04800\, Spain
CATEGORIES:Learn Spanish
ATTACH;FMTTYPE=image/png:https://breezefm.es/wp-content/uploads/2025/12/SPANGLISH.png
END:VEVENT
BEGIN:VEVENT
DTSTART;TZID=Europe/Madrid:20260514T193000
DTEND;TZID=Europe/Madrid:20260514T220000
DTSTAMP:20260423T143306
CREATED:20260301T144419Z
LAST-MODIFIED:20260301T144419Z
UID:2683-1778787000-1778796000@breezefm.es
SUMMARY:Kubatin Quiz
DESCRIPTION:Come and join us at the quiz that gives back to the community. Every Thursday at 7.30 at the Kubatin in Arboleas. Food and drinks are available and every week we raise money for worthy causes. New teams are always welcome.
URL:https://breezefm.es/event/kubatin-quiz-11/
LOCATION:Kubatin\, Arboleas\, Hotel Meson\, Calle Venta Mateo\, 5\, AL-8107\, 24\,\, Arboleas\, Almería\, 04660\, Spain
CATEGORIES:Charity,Quiz,This Week
END:VEVENT
BEGIN:VEVENT
DTSTART;TZID=Europe/Madrid:20260515T160000
DTEND;TZID=Europe/Madrid:20260515T170000
DTSTAMP:20260423T143306
CREATED:20251213T165527Z
LAST-MODIFIED:20251213T165527Z
UID:661-1778860800-1778864400@breezefm.es
SUMMARY:Coffee and Spanglish!
DESCRIPTION:Coffee & Spanglish – Free weekly meet-up!\nPractice your English or Spanish (or both!) in a relaxed\, friendly setting.\n\n\n Every Friday at 4:00pm\n Free – all levels welcome\n\n\nCome for the chat\, stay for the coffee and new friends. ¡Nos vemos! / See you there!
URL:https://breezefm.es/event/coffee-and-spanglish-23/
LOCATION:Almanzora Group of Friends\, Plaza San Antonio\, Albox\, Almería\, 04800\, Spain
CATEGORIES:Learn Spanish
ATTACH;FMTTYPE=image/png:https://breezefm.es/wp-content/uploads/2025/12/SPANGLISH.png
END:VEVENT
BEGIN:VEVENT
DTSTART;TZID=Europe/Madrid:20260521T193000
DTEND;TZID=Europe/Madrid:20260521T220000
DTSTAMP:20260423T143306
CREATED:20260301T144419Z
LAST-MODIFIED:20260301T144419Z
UID:2684-1779391800-1779400800@breezefm.es
SUMMARY:Kubatin Quiz
DESCRIPTION:Come and join us at the quiz that gives back to the community. Every Thursday at 7.30 at the Kubatin in Arboleas. Food and drinks are available and every week we raise money for worthy causes. New teams are always welcome.
URL:https://breezefm.es/event/kubatin-quiz-12/
LOCATION:Kubatin\, Arboleas\, Hotel Meson\, Calle Venta Mateo\, 5\, AL-8107\, 24\,\, Arboleas\, Almería\, 04660\, Spain
CATEGORIES:Charity,Quiz,This Week
END:VEVENT
BEGIN:VEVENT
DTSTART;TZID=Europe/Madrid:20260522T160000
DTEND;TZID=Europe/Madrid:20260522T170000
DTSTAMP:20260423T143306
CREATED:20251213T165527Z
LAST-MODIFIED:20251213T165527Z
UID:662-1779465600-1779469200@breezefm.es
SUMMARY:Coffee and Spanglish!
DESCRIPTION:Coffee & Spanglish – Free weekly meet-up!\nPractice your English or Spanish (or both!) in a relaxed\, friendly setting.\n\n\n Every Friday at 4:00pm\n Free – all levels welcome\n\n\nCome for the chat\, stay for the coffee and new friends. ¡Nos vemos! / See you there!
URL:https://breezefm.es/event/coffee-and-spanglish-24/
LOCATION:Almanzora Group of Friends\, Plaza San Antonio\, Albox\, Almería\, 04800\, Spain
CATEGORIES:Learn Spanish
ATTACH;FMTTYPE=image/png:https://breezefm.es/wp-content/uploads/2025/12/SPANGLISH.png
END:VEVENT
BEGIN:VEVENT
DTSTART;TZID=Europe/Madrid:20260528T193000
DTEND;TZID=Europe/Madrid:20260528T220000
DTSTAMP:20260423T143306
CREATED:20260301T144419Z
LAST-MODIFIED:20260301T144419Z
UID:2685-1779996600-1780005600@breezefm.es
SUMMARY:Kubatin Quiz
DESCRIPTION:Come and join us at the quiz that gives back to the community. Every Thursday at 7.30 at the Kubatin in Arboleas. Food and drinks are available and every week we raise money for worthy causes. New teams are always welcome.
URL:https://breezefm.es/event/kubatin-quiz-13/
LOCATION:Kubatin\, Arboleas\, Hotel Meson\, Calle Venta Mateo\, 5\, AL-8107\, 24\,\, Arboleas\, Almería\, 04660\, Spain
CATEGORIES:Charity,Quiz,This Week
END:VEVENT
BEGIN:VEVENT
DTSTART;TZID=Europe/Madrid:20260529T160000
DTEND;TZID=Europe/Madrid:20260529T170000
DTSTAMP:20260423T143306
CREATED:20251213T165527Z
LAST-MODIFIED:20251213T165527Z
UID:663-1780070400-1780074000@breezefm.es
SUMMARY:Coffee and Spanglish!
DESCRIPTION:Coffee & Spanglish – Free weekly meet-up!\nPractice your English or Spanish (or both!) in a relaxed\, friendly setting.\n\n\n Every Friday at 4:00pm\n Free – all levels welcome\n\n\nCome for the chat\, stay for the coffee and new friends. ¡Nos vemos! / See you there!
URL:https://breezefm.es/event/coffee-and-spanglish-25/
LOCATION:Almanzora Group of Friends\, Plaza San Antonio\, Albox\, Almería\, 04800\, Spain
CATEGORIES:Learn Spanish
ATTACH;FMTTYPE=image/png:https://breezefm.es/wp-content/uploads/2025/12/SPANGLISH.png
END:VEVENT
BEGIN:VEVENT
DTSTART;TZID=Europe/Madrid:20260531T180000
DTEND;TZID=Europe/Madrid:20260531T233000
DTSTAMP:20260423T143306
CREATED:20260404T192733Z
LAST-MODIFIED:20260404T192733Z
UID:2810-1780250400-1780270200@breezefm.es
SUMMARY:Hippie Peace & Love Party in aid of Vera Lions
DESCRIPTION:Hippie vibes are coming to Mojácar! \nGet ready for a Peace & Love Party at Bocaina Beach Club on Sunday 31st May from 6pm \nEnjoy a fantastic evening of live music from The Funk Federation\, plus a DJ\, games\, and plenty of feel-good fun to keep the party going \nThere’ll also be temporary tattoos\, hobby horse races\, and more — so it’s not just a night out\, it’s a full-on experience! \nTickets just 10€All proceeds go to the Lions Charity \nTickets available from Jackie Miles-Kirby\, Me & Mrs Jones Mojacar\, and Lions Shop Turre \nDig out your flares\, embrace the peace & love\, and join us for a great night for a great cause.
URL:https://breezefm.es/event/hippie-peace-love-party-in-aid-of-vera-lions/
LOCATION:Bocaina Beach Club\, P.º del Mediterráneo\, 26\, Vista de los Ángeles-Rumina\,\, Mojacar\, Almeria\, 04638\, Spain
ATTACH;FMTTYPE=image/jpeg:https://breezefm.es/wp-content/uploads/2026/04/661103565_10164824495161613_2562171775768915558_n.jpg
ORGANIZER;CN="Vera and District Lions Club":MAILTO:contact@veralions.com
END:VEVENT
BEGIN:VEVENT
DTSTART;TZID=Europe/Madrid:20260604T193000
DTEND;TZID=Europe/Madrid:20260604T220000
DTSTAMP:20260423T143306
CREATED:20260301T144419Z
LAST-MODIFIED:20260301T144419Z
UID:2686-1780601400-1780610400@breezefm.es
SUMMARY:Kubatin Quiz
DESCRIPTION:Come and join us at the quiz that gives back to the community. Every Thursday at 7.30 at the Kubatin in Arboleas. Food and drinks are available and every week we raise money for worthy causes. New teams are always welcome.
URL:https://breezefm.es/event/kubatin-quiz-14/
LOCATION:Kubatin\, Arboleas\, Hotel Meson\, Calle Venta Mateo\, 5\, AL-8107\, 24\,\, Arboleas\, Almería\, 04660\, Spain
CATEGORIES:Charity,Quiz,This Week
END:VEVENT
BEGIN:VEVENT
DTSTART;TZID=Europe/Madrid:20260605T160000
DTEND;TZID=Europe/Madrid:20260605T170000
DTSTAMP:20260423T143306
CREATED:20251213T165527Z
LAST-MODIFIED:20251213T165527Z
UID:664-1780675200-1780678800@breezefm.es
SUMMARY:Coffee and Spanglish!
DESCRIPTION:Coffee & Spanglish – Free weekly meet-up!\nPractice your English or Spanish (or both!) in a relaxed\, friendly setting.\n\n\n Every Friday at 4:00pm\n Free – all levels welcome\n\n\nCome for the chat\, stay for the coffee and new friends. ¡Nos vemos! / See you there!
URL:https://breezefm.es/event/coffee-and-spanglish-26/
LOCATION:Almanzora Group of Friends\, Plaza San Antonio\, Albox\, Almería\, 04800\, Spain
CATEGORIES:Learn Spanish
ATTACH;FMTTYPE=image/png:https://breezefm.es/wp-content/uploads/2025/12/SPANGLISH.png
END:VEVENT
BEGIN:VEVENT
DTSTART;TZID=Europe/Madrid:20260611T193000
DTEND;TZID=Europe/Madrid:20260611T220000
DTSTAMP:20260423T143306
CREATED:20260301T144419Z
LAST-MODIFIED:20260301T144419Z
UID:2687-1781206200-1781215200@breezefm.es
SUMMARY:Kubatin Quiz
DESCRIPTION:Come and join us at the quiz that gives back to the community. Every Thursday at 7.30 at the Kubatin in Arboleas. Food and drinks are available and every week we raise money for worthy causes. New teams are always welcome.
URL:https://breezefm.es/event/kubatin-quiz-15/
LOCATION:Kubatin\, Arboleas\, Hotel Meson\, Calle Venta Mateo\, 5\, AL-8107\, 24\,\, Arboleas\, Almería\, 04660\, Spain
CATEGORIES:Charity,Quiz,This Week
END:VEVENT
BEGIN:VEVENT
DTSTART;TZID=Europe/Madrid:20260612T160000
DTEND;TZID=Europe/Madrid:20260612T170000
DTSTAMP:20260423T143306
CREATED:20251213T165527Z
LAST-MODIFIED:20251213T165527Z
UID:665-1781280000-1781283600@breezefm.es
SUMMARY:Coffee and Spanglish!
DESCRIPTION:Coffee & Spanglish – Free weekly meet-up!\nPractice your English or Spanish (or both!) in a relaxed\, friendly setting.\n\n\n Every Friday at 4:00pm\n Free – all levels welcome\n\n\nCome for the chat\, stay for the coffee and new friends. ¡Nos vemos! / See you there!
URL:https://breezefm.es/event/coffee-and-spanglish-27/
LOCATION:Almanzora Group of Friends\, Plaza San Antonio\, Albox\, Almería\, 04800\, Spain
CATEGORIES:Learn Spanish
ATTACH;FMTTYPE=image/png:https://breezefm.es/wp-content/uploads/2025/12/SPANGLISH.png
END:VEVENT
BEGIN:VEVENT
DTSTART;TZID=Europe/Madrid:20260618T193000
DTEND;TZID=Europe/Madrid:20260618T220000
DTSTAMP:20260423T143306
CREATED:20260301T144419Z
LAST-MODIFIED:20260301T144419Z
UID:2688-1781811000-1781820000@breezefm.es
SUMMARY:Kubatin Quiz
DESCRIPTION:Come and join us at the quiz that gives back to the community. Every Thursday at 7.30 at the Kubatin in Arboleas. Food and drinks are available and every week we raise money for worthy causes. New teams are always welcome.
URL:https://breezefm.es/event/kubatin-quiz-16/
LOCATION:Kubatin\, Arboleas\, Hotel Meson\, Calle Venta Mateo\, 5\, AL-8107\, 24\,\, Arboleas\, Almería\, 04660\, Spain
CATEGORIES:Charity,Quiz,This Week
END:VEVENT
BEGIN:VEVENT
DTSTART;TZID=Europe/Madrid:20260619T160000
DTEND;TZID=Europe/Madrid:20260619T170000
DTSTAMP:20260423T143306
CREATED:20251213T165527Z
LAST-MODIFIED:20251213T165527Z
UID:666-1781884800-1781888400@breezefm.es
SUMMARY:Coffee and Spanglish!
DESCRIPTION:Coffee & Spanglish – Free weekly meet-up!\nPractice your English or Spanish (or both!) in a relaxed\, friendly setting.\n\n\n Every Friday at 4:00pm\n Free – all levels welcome\n\n\nCome for the chat\, stay for the coffee and new friends. ¡Nos vemos! / See you there!
URL:https://breezefm.es/event/coffee-and-spanglish-28/
LOCATION:Almanzora Group of Friends\, Plaza San Antonio\, Albox\, Almería\, 04800\, Spain
CATEGORIES:Learn Spanish
ATTACH;FMTTYPE=image/png:https://breezefm.es/wp-content/uploads/2025/12/SPANGLISH.png
END:VEVENT
BEGIN:VEVENT
DTSTART;TZID=Europe/Madrid:20260625T193000
DTEND;TZID=Europe/Madrid:20260625T220000
DTSTAMP:20260423T143306
CREATED:20260301T144419Z
LAST-MODIFIED:20260301T144419Z
UID:2689-1782415800-1782424800@breezefm.es
SUMMARY:Kubatin Quiz
DESCRIPTION:Come and join us at the quiz that gives back to the community. Every Thursday at 7.30 at the Kubatin in Arboleas. Food and drinks are available and every week we raise money for worthy causes. New teams are always welcome.
URL:https://breezefm.es/event/kubatin-quiz-17/
LOCATION:Kubatin\, Arboleas\, Hotel Meson\, Calle Venta Mateo\, 5\, AL-8107\, 24\,\, Arboleas\, Almería\, 04660\, Spain
CATEGORIES:Charity,Quiz,This Week
END:VEVENT
BEGIN:VEVENT
DTSTART;TZID=Europe/Madrid:20260626T160000
DTEND;TZID=Europe/Madrid:20260626T170000
DTSTAMP:20260423T143306
CREATED:20251213T165528Z
LAST-MODIFIED:20251213T165528Z
UID:667-1782489600-1782493200@breezefm.es
SUMMARY:Coffee and Spanglish!
DESCRIPTION:Coffee & Spanglish – Free weekly meet-up!\nPractice your English or Spanish (or both!) in a relaxed\, friendly setting.\n\n\n Every Friday at 4:00pm\n Free – all levels welcome\n\n\nCome for the chat\, stay for the coffee and new friends. ¡Nos vemos! / See you there!
URL:https://breezefm.es/event/coffee-and-spanglish-29/
LOCATION:Almanzora Group of Friends\, Plaza San Antonio\, Albox\, Almería\, 04800\, Spain
CATEGORIES:Learn Spanish
ATTACH;FMTTYPE=image/png:https://breezefm.es/wp-content/uploads/2025/12/SPANGLISH.png
END:VEVENT
BEGIN:VEVENT
DTSTART;TZID=Europe/Madrid:20260702T193000
DTEND;TZID=Europe/Madrid:20260702T220000
DTSTAMP:20260423T143306
CREATED:20260301T144419Z
LAST-MODIFIED:20260301T144419Z
UID:2690-1783020600-1783029600@breezefm.es
SUMMARY:Kubatin Quiz
DESCRIPTION:Come and join us at the quiz that gives back to the community. Every Thursday at 7.30 at the Kubatin in Arboleas. Food and drinks are available and every week we raise money for worthy causes. New teams are always welcome.
URL:https://breezefm.es/event/kubatin-quiz-18/
LOCATION:Kubatin\, Arboleas\, Hotel Meson\, Calle Venta Mateo\, 5\, AL-8107\, 24\,\, Arboleas\, Almería\, 04660\, Spain
CATEGORIES:Charity,Quiz,This Week
END:VEVENT
BEGIN:VEVENT
DTSTART;TZID=Europe/Madrid:20260703T160000
DTEND;TZID=Europe/Madrid:20260703T170000
DTSTAMP:20260423T143306
CREATED:20251213T165528Z
LAST-MODIFIED:20251213T165528Z
UID:668-1783094400-1783098000@breezefm.es
SUMMARY:Coffee and Spanglish!
DESCRIPTION:Coffee & Spanglish – Free weekly meet-up!\nPractice your English or Spanish (or both!) in a relaxed\, friendly setting.\n\n\n Every Friday at 4:00pm\n Free – all levels welcome\n\n\nCome for the chat\, stay for the coffee and new friends. ¡Nos vemos! / See you there!
URL:https://breezefm.es/event/coffee-and-spanglish-30/
LOCATION:Almanzora Group of Friends\, Plaza San Antonio\, Albox\, Almería\, 04800\, Spain
CATEGORIES:Learn Spanish
ATTACH;FMTTYPE=image/png:https://breezefm.es/wp-content/uploads/2025/12/SPANGLISH.png
END:VEVENT
BEGIN:VEVENT
DTSTART;TZID=Europe/Madrid:20260709T193000
DTEND;TZID=Europe/Madrid:20260709T220000
DTSTAMP:20260423T143306
CREATED:20260301T144419Z
LAST-MODIFIED:20260301T144419Z
UID:2691-1783625400-1783634400@breezefm.es
SUMMARY:Kubatin Quiz
DESCRIPTION:Come and join us at the quiz that gives back to the community. Every Thursday at 7.30 at the Kubatin in Arboleas. Food and drinks are available and every week we raise money for worthy causes. New teams are always welcome.
URL:https://breezefm.es/event/kubatin-quiz-19/
LOCATION:Kubatin\, Arboleas\, Hotel Meson\, Calle Venta Mateo\, 5\, AL-8107\, 24\,\, Arboleas\, Almería\, 04660\, Spain
CATEGORIES:Charity,Quiz,This Week
END:VEVENT
BEGIN:VEVENT
DTSTART;TZID=Europe/Madrid:20260710T160000
DTEND;TZID=Europe/Madrid:20260710T170000
DTSTAMP:20260423T143306
CREATED:20251213T165528Z
LAST-MODIFIED:20251213T165528Z
UID:669-1783699200-1783702800@breezefm.es
SUMMARY:Coffee and Spanglish!
DESCRIPTION:Coffee & Spanglish – Free weekly meet-up!\nPractice your English or Spanish (or both!) in a relaxed\, friendly setting.\n\n\n Every Friday at 4:00pm\n Free – all levels welcome\n\n\nCome for the chat\, stay for the coffee and new friends. ¡Nos vemos! / See you there!
URL:https://breezefm.es/event/coffee-and-spanglish-31/
LOCATION:Almanzora Group of Friends\, Plaza San Antonio\, Albox\, Almería\, 04800\, Spain
CATEGORIES:Learn Spanish
ATTACH;FMTTYPE=image/png:https://breezefm.es/wp-content/uploads/2025/12/SPANGLISH.png
END:VEVENT
BEGIN:VEVENT
DTSTART;TZID=Europe/Madrid:20260716T193000
DTEND;TZID=Europe/Madrid:20260716T220000
DTSTAMP:20260423T143306
CREATED:20260301T144419Z
LAST-MODIFIED:20260301T144419Z
UID:2692-1784230200-1784239200@breezefm.es
SUMMARY:Kubatin Quiz
DESCRIPTION:Come and join us at the quiz that gives back to the community. Every Thursday at 7.30 at the Kubatin in Arboleas. Food and drinks are available and every week we raise money for worthy causes. New teams are always welcome.
URL:https://breezefm.es/event/kubatin-quiz-20/
LOCATION:Kubatin\, Arboleas\, Hotel Meson\, Calle Venta Mateo\, 5\, AL-8107\, 24\,\, Arboleas\, Almería\, 04660\, Spain
CATEGORIES:Charity,Quiz,This Week
END:VEVENT
BEGIN:VEVENT
DTSTART;TZID=Europe/Madrid:20260717T160000
DTEND;TZID=Europe/Madrid:20260717T170000
DTSTAMP:20260423T143306
CREATED:20251213T165528Z
LAST-MODIFIED:20251213T165528Z
UID:670-1784304000-1784307600@breezefm.es
SUMMARY:Coffee and Spanglish!
DESCRIPTION:Coffee & Spanglish – Free weekly meet-up!\nPractice your English or Spanish (or both!) in a relaxed\, friendly setting.\n\n\n Every Friday at 4:00pm\n Free – all levels welcome\n\n\nCome for the chat\, stay for the coffee and new friends. ¡Nos vemos! / See you there!
URL:https://breezefm.es/event/coffee-and-spanglish-32/
LOCATION:Almanzora Group of Friends\, Plaza San Antonio\, Albox\, Almería\, 04800\, Spain
CATEGORIES:Learn Spanish
ATTACH;FMTTYPE=image/png:https://breezefm.es/wp-content/uploads/2025/12/SPANGLISH.png
END:VEVENT
END:VCALENDAR